BEGIN:VCALENDAR
VERSION:2.0
PRODID:-//Dolton Public Library District - ECPv6.15.20//NONSGML v1.0//EN
CALSCALE:GREGORIAN
METHOD:PUBLISH
X-WR-CALNAME:Dolton Public Library District
X-ORIGINAL-URL:https://www.doltonpubliclibrary.org
X-WR-CALDESC:Events for Dolton Public Library District
REFRESH-INTERVAL;VALUE=DURATION:PT1H
X-Robots-Tag:noindex
X-PUBLISHED-TTL:PT1H
BEGIN:VTIMEZONE
TZID:UTC
BEGIN:STANDARD
TZOFFSETFROM:+0000
TZOFFSETTO:+0000
TZNAME:UTC
DTSTART:20250101T000000
END:STANDARD
END:VTIMEZONE
BEGIN:VEVENT
DTSTART;TZID=UTC:20260421T160000
DTEND;TZID=UTC:20260421T190000
DTSTAMP:20260421T051726
CREATED:20200303T013130Z
LAST-MODIFIED:20200303T013130Z
UID:5895-1776787200-1776798000@www.doltonpubliclibrary.org
SUMMARY:Bridge
DESCRIPTION:
URL:https://www.doltonpubliclibrary.org/event/bridge/2026-04-21/
CATEGORIES:Adult Service
END:VEVENT
BEGIN:VEVENT
DTSTART;TZID=UTC:20260422T153000
DTEND;TZID=UTC:20260422T163000
DTSTAMP:20260421T051726
CREATED:20191016T222254Z
LAST-MODIFIED:20191016T222254Z
UID:5896-1776871800-1776875400@www.doltonpubliclibrary.org
SUMMARY:Craft Time
DESCRIPTION:4th Wednesday of every month in the Kopac Room
URL:https://www.doltonpubliclibrary.org/event/craft-time/2026-04-22/
END:VEVENT
BEGIN:VEVENT
DTSTART;TZID=UTC:20260423T180000
DTEND;TZID=UTC:20260423T190000
DTSTAMP:20260421T051726
CREATED:20200303T013551Z
LAST-MODIFIED:20200303T013551Z
UID:5897-1776967200-1776970800@www.doltonpubliclibrary.org
SUMMARY:Line Dancing
DESCRIPTION:Come Line Dance with us. We meet every other Thursday nite at 6pm. \nPlease call 708-849-2385 to register. Leave your full name and contact information\, phone number/email\, etc. A link will be sent to you the day of the program.
URL:https://www.doltonpubliclibrary.org/event/line-dancing/2026-04-23/
ATTACH;FMTTYPE=image/png:https://www.doltonpubliclibrary.org/wp-content/uploads/2020/03/line-dancing-big.png
END:VEVENT
BEGIN:VEVENT
DTSTART;TZID=UTC:20260425T120000
DTEND;TZID=UTC:20260425T130000
DTSTAMP:20260421T051726
CREATED:20191016T221223Z
LAST-MODIFIED:20191016T221223Z
UID:5898-1777118400-1777122000@www.doltonpubliclibrary.org
SUMMARY:Author! Author!
DESCRIPTION:Last Saturday of every month in the Kopac Room
URL:https://www.doltonpubliclibrary.org/event/author-author/2026-04-25/
END:VEVENT
BEGIN:VEVENT
DTSTART;TZID=UTC:20260425T133000
DTEND;TZID=UTC:20260425T140000
DTSTAMP:20260421T051726
CREATED:20200911T210210Z
LAST-MODIFIED:20200911T210210Z
UID:5900-1777123800-1777125600@www.doltonpubliclibrary.org
SUMMARY:Virtual Teen Kahoot!
DESCRIPTION:
URL:https://www.doltonpubliclibrary.org/event/virtual-teen-kahoot/2026-04-25/
CATEGORIES:Youth Service
END:VEVENT
BEGIN:VEVENT
DTSTART;TZID=UTC:20260425T140000
DTEND;TZID=UTC:20260425T153000
DTSTAMP:20260421T051726
CREATED:20200911T210028Z
LAST-MODIFIED:20200911T210028Z
UID:5899-1777125600-1777131000@www.doltonpubliclibrary.org
SUMMARY:Cooking with Chef Jazzy John
DESCRIPTION:
URL:https://www.doltonpubliclibrary.org/event/cooking-with-chef-jazzy-john/2026-04-25/
CATEGORIES:Adult Service
END:VEVENT
BEGIN:VEVENT
DTSTART;TZID=UTC:20260426T133000
DTEND;TZID=UTC:20260426T153000
DTSTAMP:20260421T051726
CREATED:20200611T205112Z
LAST-MODIFIED:20200611T205112Z
UID:5901-1777210200-1777217400@www.doltonpubliclibrary.org
SUMMARY:Senior Bridge Club
DESCRIPTION:Tuesdays 4:00pm-6:00pm \nand Sundays 1:30pm-3:30pm \nCall to Register: 708-849-2395\nYou must have a Dolton Public Library Card \n  \n 
URL:https://www.doltonpubliclibrary.org/event/senior-bridge-club/2026-04-26/
ATTACH;FMTTYPE=image/jpeg:https://www.doltonpubliclibrary.org/wp-content/uploads/2020/06/bridge-club.jpg
END:VEVENT
BEGIN:VEVENT
DTSTART;TZID=UTC:20260428T120000
DTEND;TZID=UTC:20260428T130000
DTSTAMP:20260421T051726
CREATED:20191016T221413Z
LAST-MODIFIED:20191016T221413Z
UID:5980-1777377600-1777381200@www.doltonpubliclibrary.org
SUMMARY:Toddler Time
DESCRIPTION:2nd and 4th Tuesday of every month in the Kopac Room
URL:https://www.doltonpubliclibrary.org/event/toddler-time/2026-04-28/
END:VEVENT
BEGIN:VEVENT
DTSTART;TZID=UTC:20260428T160000
DTEND;TZID=UTC:20260428T190000
DTSTAMP:20260421T051726
CREATED:20200303T013130Z
LAST-MODIFIED:20200303T013130Z
UID:5902-1777392000-1777402800@www.doltonpubliclibrary.org
SUMMARY:Bridge
DESCRIPTION:
URL:https://www.doltonpubliclibrary.org/event/bridge/2026-04-28/
CATEGORIES:Adult Service
END:VEVENT
BEGIN:VEVENT
DTSTART;TZID=UTC:20260430T180000
DTEND;TZID=UTC:20260430T190000
DTSTAMP:20260421T051726
CREATED:20200303T013551Z
LAST-MODIFIED:20200303T013551Z
UID:5904-1777572000-1777575600@www.doltonpubliclibrary.org
SUMMARY:Line Dancing
DESCRIPTION:Come Line Dance with us. We meet every other Thursday nite at 6pm. \nPlease call 708-849-2385 to register. Leave your full name and contact information\, phone number/email\, etc. A link will be sent to you the day of the program.
URL:https://www.doltonpubliclibrary.org/event/line-dancing/2026-04-30/
ATTACH;FMTTYPE=image/png:https://www.doltonpubliclibrary.org/wp-content/uploads/2020/03/line-dancing-big.png
END:VEVENT
BEGIN:VEVENT
DTSTART;TZID=UTC:20260430T190000
DTEND;TZID=UTC:20260430T203000
DTSTAMP:20260421T051726
CREATED:20191016T205754Z
LAST-MODIFIED:20191016T205754Z
UID:5903-1777575600-1777581000@www.doltonpubliclibrary.org
SUMMARY:Book Bites - The DPLD Black Authors' Book Club
DESCRIPTION:Last Thursday of every month
URL:https://www.doltonpubliclibrary.org/event/book-bites-the-dpld-black-authors-book-club/2026-04-30/
LOCATION:Kopac Room
END:VEVENT
BEGIN:VEVENT
DTSTART;TZID=UTC:20260502T133000
DTEND;TZID=UTC:20260502T140000
DTSTAMP:20260421T051726
CREATED:20200911T210210Z
LAST-MODIFIED:20200911T210210Z
UID:5905-1777728600-1777730400@www.doltonpubliclibrary.org
SUMMARY:Virtual Teen Kahoot!
DESCRIPTION:
URL:https://www.doltonpubliclibrary.org/event/virtual-teen-kahoot/2026-05-02/
CATEGORIES:Youth Service
END:VEVENT
BEGIN:VEVENT
DTSTART;TZID=UTC:20260503T133000
DTEND;TZID=UTC:20260503T153000
DTSTAMP:20260421T051726
CREATED:20200611T205112Z
LAST-MODIFIED:20200611T205112Z
UID:5906-1777815000-1777822200@www.doltonpubliclibrary.org
SUMMARY:Senior Bridge Club
DESCRIPTION:Tuesdays 4:00pm-6:00pm \nand Sundays 1:30pm-3:30pm \nCall to Register: 708-849-2395\nYou must have a Dolton Public Library Card \n  \n 
URL:https://www.doltonpubliclibrary.org/event/senior-bridge-club/2026-05-03/
ATTACH;FMTTYPE=image/jpeg:https://www.doltonpubliclibrary.org/wp-content/uploads/2020/06/bridge-club.jpg
END:VEVENT
BEGIN:VEVENT
DTSTART;TZID=UTC:20260505T160000
DTEND;TZID=UTC:20260505T190000
DTSTAMP:20260421T051726
CREATED:20200303T013130Z
LAST-MODIFIED:20200303T013130Z
UID:5907-1777996800-1778007600@www.doltonpubliclibrary.org
SUMMARY:Bridge
DESCRIPTION:
URL:https://www.doltonpubliclibrary.org/event/bridge/2026-05-05/
CATEGORIES:Adult Service
END:VEVENT
BEGIN:VEVENT
DTSTART;TZID=UTC:20260506T110000
DTEND;TZID=UTC:20260506T120000
DTSTAMP:20260421T051726
CREATED:20191016T222346Z
LAST-MODIFIED:20191016T222346Z
UID:5910-1778065200-1778068800@www.doltonpubliclibrary.org
SUMMARY:Seasoned Seniors  (The DPLD Senior Group)
DESCRIPTION:First Wednesday of every month in the Josway Room
URL:https://www.doltonpubliclibrary.org/event/seasoned-seniors-the-dpld-senior-group/2026-05-06/
END:VEVENT
BEGIN:VEVENT
DTSTART;TZID=UTC:20260506T153000
DTEND;TZID=UTC:20260506T170000
DTSTAMP:20260421T051726
CREATED:20191016T221610Z
LAST-MODIFIED:20191016T221610Z
UID:5909-1778081400-1778086800@www.doltonpubliclibrary.org
SUMMARY:Homework Help
DESCRIPTION:The first 3 Wednesdays of every month Kopac Room
URL:https://www.doltonpubliclibrary.org/event/homework-help/2026-05-06/
END:VEVENT
BEGIN:VEVENT
DTSTART;TZID=UTC:20260506T190000
DTEND;TZID=UTC:20260506T200000
DTSTAMP:20260421T051726
CREATED:20191016T220909Z
LAST-MODIFIED:20191016T220909Z
UID:5908-1778094000-1778097600@www.doltonpubliclibrary.org
SUMMARY:Kitting Club
DESCRIPTION:Stitches and Strings – The DPLD Kitting Club \n1st and 3rd Wednesday of every month in the Kopac Room
URL:https://www.doltonpubliclibrary.org/event/stitches-and-strings-the-dpld-kitting-club/2026-05-06/
END:VEVENT
BEGIN:VEVENT
DTSTART;TZID=UTC:20260507T180000
DTEND;TZID=UTC:20260507T190000
DTSTAMP:20260421T051726
CREATED:20200303T013551Z
LAST-MODIFIED:20200303T013551Z
UID:5911-1778176800-1778180400@www.doltonpubliclibrary.org
SUMMARY:Line Dancing
DESCRIPTION:Come Line Dance with us. We meet every other Thursday nite at 6pm. \nPlease call 708-849-2385 to register. Leave your full name and contact information\, phone number/email\, etc. A link will be sent to you the day of the program.
URL:https://www.doltonpubliclibrary.org/event/line-dancing/2026-05-07/
ATTACH;FMTTYPE=image/png:https://www.doltonpubliclibrary.org/wp-content/uploads/2020/03/line-dancing-big.png
END:VEVENT
BEGIN:VEVENT
DTSTART;TZID=UTC:20260509T110000
DTEND;TZID=UTC:20260509T130000
DTSTAMP:20260421T051726
CREATED:20191016T221103Z
LAST-MODIFIED:20191016T221103Z
UID:5956-1778324400-1778331600@www.doltonpubliclibrary.org
SUMMARY:Cookbook Club
DESCRIPTION:Food For Thought – The DPLD Cookbook Club \nThe 2nd Saturday of every month in the Josway Room
URL:https://www.doltonpubliclibrary.org/event/food-for-thought-the-dpld-cookbook-club/2026-05-09/
END:VEVENT
BEGIN:VEVENT
DTSTART;TZID=UTC:20260509T133000
DTEND;TZID=UTC:20260509T140000
DTSTAMP:20260421T051726
CREATED:20200911T210210Z
LAST-MODIFIED:20200911T210210Z
UID:5958-1778333400-1778335200@www.doltonpubliclibrary.org
SUMMARY:Virtual Teen Kahoot!
DESCRIPTION:
URL:https://www.doltonpubliclibrary.org/event/virtual-teen-kahoot/2026-05-09/
CATEGORIES:Youth Service
END:VEVENT
BEGIN:VEVENT
DTSTART;TZID=UTC:20260509T140000
DTEND;TZID=UTC:20260509T153000
DTSTAMP:20260421T051726
CREATED:20200911T210028Z
LAST-MODIFIED:20200911T210028Z
UID:5957-1778335200-1778340600@www.doltonpubliclibrary.org
SUMMARY:Cooking with Chef Jazzy John
DESCRIPTION:
URL:https://www.doltonpubliclibrary.org/event/cooking-with-chef-jazzy-john/2026-05-09/
CATEGORIES:Adult Service
END:VEVENT
BEGIN:VEVENT
DTSTART;TZID=UTC:20260510T133000
DTEND;TZID=UTC:20260510T153000
DTSTAMP:20260421T051726
CREATED:20200611T205112Z
LAST-MODIFIED:20200611T205112Z
UID:5977-1778419800-1778427000@www.doltonpubliclibrary.org
SUMMARY:Senior Bridge Club
DESCRIPTION:Tuesdays 4:00pm-6:00pm \nand Sundays 1:30pm-3:30pm \nCall to Register: 708-849-2395\nYou must have a Dolton Public Library Card \n  \n 
URL:https://www.doltonpubliclibrary.org/event/senior-bridge-club/2026-05-10/
ATTACH;FMTTYPE=image/jpeg:https://www.doltonpubliclibrary.org/wp-content/uploads/2020/06/bridge-club.jpg
END:VEVENT
BEGIN:VEVENT
DTSTART;TZID=UTC:20260512T120000
DTEND;TZID=UTC:20260512T130000
DTSTAMP:20260421T051726
CREATED:20191016T221413Z
LAST-MODIFIED:20191016T221413Z
UID:5979-1778587200-1778590800@www.doltonpubliclibrary.org
SUMMARY:Toddler Time
DESCRIPTION:2nd and 4th Tuesday of every month in the Kopac Room
URL:https://www.doltonpubliclibrary.org/event/toddler-time/2026-05-12/
END:VEVENT
BEGIN:VEVENT
DTSTART;TZID=UTC:20260512T160000
DTEND;TZID=UTC:20260512T190000
DTSTAMP:20260421T051726
CREATED:20200303T013130Z
LAST-MODIFIED:20200303T013130Z
UID:5981-1778601600-1778612400@www.doltonpubliclibrary.org
SUMMARY:Bridge
DESCRIPTION:
URL:https://www.doltonpubliclibrary.org/event/bridge/2026-05-12/
CATEGORIES:Adult Service
END:VEVENT
BEGIN:VEVENT
DTSTART;TZID=UTC:20260513T170000
DTEND;TZID=UTC:20260513T180000
DTSTAMP:20260421T051726
CREATED:20191016T220747Z
LAST-MODIFIED:20191016T220747Z
UID:5982-1778691600-1778695200@www.doltonpubliclibrary.org
SUMMARY:Genealogy Club
DESCRIPTION:Finding the Root of it all – The DPLD Genealogy Club \n2nd Wednesday of every month In The Josway Room
URL:https://www.doltonpubliclibrary.org/event/finding-the-root-of-it-all-the-dpld-genealogy-club/2026-05-13/
END:VEVENT
BEGIN:VEVENT
DTSTART;TZID=UTC:20260514T110000
DTEND;TZID=UTC:20260514T170000
DTSTAMP:20260421T051726
CREATED:20200728T222022Z
LAST-MODIFIED:20200728T222022Z
UID:6006-1778756400-1778778000@www.doltonpubliclibrary.org
SUMMARY:Senior Bingo
DESCRIPTION:
URL:https://www.doltonpubliclibrary.org/event/senior-bingo/2026-05-14/
END:VEVENT
BEGIN:VEVENT
DTSTART;TZID=UTC:20260514T180000
DTEND;TZID=UTC:20260514T190000
DTSTAMP:20260421T051726
CREATED:20200303T013551Z
LAST-MODIFIED:20200303T013551Z
UID:6007-1778781600-1778785200@www.doltonpubliclibrary.org
SUMMARY:Line Dancing
DESCRIPTION:Come Line Dance with us. We meet every other Thursday nite at 6pm. \nPlease call 708-849-2385 to register. Leave your full name and contact information\, phone number/email\, etc. A link will be sent to you the day of the program.
URL:https://www.doltonpubliclibrary.org/event/line-dancing/2026-05-14/
ATTACH;FMTTYPE=image/png:https://www.doltonpubliclibrary.org/wp-content/uploads/2020/03/line-dancing-big.png
END:VEVENT
BEGIN:VEVENT
DTSTART;TZID=UTC:20260516T133000
DTEND;TZID=UTC:20260516T140000
DTSTAMP:20260421T051726
CREATED:20200911T210210Z
LAST-MODIFIED:20200911T210210Z
UID:6008-1778938200-1778940000@www.doltonpubliclibrary.org
SUMMARY:Virtual Teen Kahoot!
DESCRIPTION:
URL:https://www.doltonpubliclibrary.org/event/virtual-teen-kahoot/2026-05-16/
CATEGORIES:Youth Service
END:VEVENT
BEGIN:VEVENT
DTSTART;TZID=UTC:20260517T133000
DTEND;TZID=UTC:20260517T153000
DTSTAMP:20260421T051726
CREATED:20200611T205112Z
LAST-MODIFIED:20200611T205112Z
UID:6009-1779024600-1779031800@www.doltonpubliclibrary.org
SUMMARY:Senior Bridge Club
DESCRIPTION:Tuesdays 4:00pm-6:00pm \nand Sundays 1:30pm-3:30pm \nCall to Register: 708-849-2395\nYou must have a Dolton Public Library Card \n  \n 
URL:https://www.doltonpubliclibrary.org/event/senior-bridge-club/2026-05-17/
ATTACH;FMTTYPE=image/jpeg:https://www.doltonpubliclibrary.org/wp-content/uploads/2020/06/bridge-club.jpg
END:VEVENT
BEGIN:VEVENT
DTSTART;TZID=UTC:20260519T160000
DTEND;TZID=UTC:20260519T190000
DTSTAMP:20260421T051726
CREATED:20200303T013130Z
LAST-MODIFIED:20200303T013130Z
UID:6010-1779206400-1779217200@www.doltonpubliclibrary.org
SUMMARY:Bridge
DESCRIPTION:
URL:https://www.doltonpubliclibrary.org/event/bridge/2026-05-19/
CATEGORIES:Adult Service
END:VEVENT
END:VCALENDAR